Package: MultiRNAflow Version: 1.5.0 Command: /Library/Frameworks/R.framework/Resources/bin/R CMD INSTALL MultiRNAflow StartedAt: 2025-01-30 15:28:39 -0500 (Thu, 30 Jan 2025) EndedAt: 2025-01-30 15:28:59 -0500 (Thu, 30 Jan 2025) EllapsedTime: 19.7 seconds RetCode: 0 Status: OK