Package: MultiMed Version: 2.31.0 Command: /Library/Frameworks/R.framework/Resources/bin/R CMD INSTALL MultiMed StartedAt: 2025-05-06 15:03:26 -0400 (Tue, 06 May 2025) EndedAt: 2025-05-06 15:03:42 -0400 (Tue, 06 May 2025) EllapsedTime: 16.5 seconds RetCode: 0 Status: OK