Package: MultiMed Version: 2.31.0 Command: /Library/Frameworks/R.framework/Resources/bin/R CMD check --install=check:MultiMed.install-out.txt --library=/Library/Frameworks/R.framework/Resources/library --no-vignettes --timings MultiMed_2.31.0.tar.gz StartedAt: 2025-05-07 22:08:27 -0400 (Wed, 07 May 2025) EndedAt: 2025-05-07 22:08:57 -0400 (Wed, 07 May 2025) EllapsedTime: 29.7 seconds RetCode: 0 Status: OK CheckDir: MultiMed.Rcheck Warnings: 0