Package: MultiMed Version: 2.31.0 Command: /Library/Frameworks/R.framework/Resources/bin/R CMD build --keep-empty-dirs --no-resave-data MultiMed StartedAt: 2025-05-07 17:41:34 -0400 (Wed, 07 May 2025) EndedAt: 2025-05-07 17:41:50 -0400 (Wed, 07 May 2025) EllapsedTime: 16.0 seconds RetCode: 0 Status: OK PackageFile: MultiMed_2.31.0.tar.gz PackageFileSize: 508.1 KiB