Package: MultiMed Version: 2.31.0 Command: rm -rf MultiMed.buildbin-libdir && mkdir MultiMed.buildbin-libdir && /Users/biocbuild/BBS/utils/build-universal.sh MultiMed_2.31.0.tar.gz /Library/Frameworks/R.framework/Resources/bin/R MultiMed.buildbin-libdir StartedAt: 2025-05-08 00:55:09 -0400 (Thu, 08 May 2025) EndedAt: 2025-05-08 00:55:14 -0400 (Thu, 08 May 2025) EllapsedTime: 4.6 seconds RetCode: 0 Status: OK PackageFile: MultiMed_2.31.0.tgz PackageFileSize: 525.4 KiB