Package: MultiMed Version: 2.31.0 Command: /Library/Frameworks/R.framework/Resources/bin/R CMD check --install=check:MultiMed.install-out.txt --library=/Library/Frameworks/R.framework/Resources/library --no-vignettes --timings MultiMed_2.31.0.tar.gz StartedAt: 2025-05-09 20:43:04 -0400 (Fri, 09 May 2025) EndedAt: 2025-05-09 20:43:17 -0400 (Fri, 09 May 2025) EllapsedTime: 13.2 seconds RetCode: 0 Status: OK CheckDir: MultiMed.Rcheck Warnings: 0