Package: MultiMed Version: 2.31.0 Command: rm -rf MultiMed.buildbin-libdir && mkdir MultiMed.buildbin-libdir && /Users/biocbuild/BBS/utils/build-universal.sh MultiMed_2.31.0.tar.gz /Library/Frameworks/R.framework/Resources/bin/R MultiMed.buildbin-libdir StartedAt: 2025-05-09 22:49:19 -0400 (Fri, 09 May 2025) EndedAt: 2025-05-09 22:49:21 -0400 (Fri, 09 May 2025) EllapsedTime: 2.1 seconds RetCode: 0 Status: OK PackageFile: MultiMed_2.31.0.tgz PackageFileSize: 525.9 KiB