Package: MultiDataSet Version: 1.37.0 Command: /home/biocbuild/bbs-3.22-bioc/R/bin/R CMD INSTALL MultiDataSet StartedAt: 2025-07-24 15:26:26 -0400 (Thu, 24 Jul 2025) EndedAt: 2025-07-24 15:26:49 -0400 (Thu, 24 Jul 2025) EllapsedTime: 23.1 seconds RetCode: 0 Status: OK