Package: MultiDataSet Version: 1.37.0 Command: /home/biocbuild/bbs-3.22-bioc/R/bin/R CMD check --install=check:MultiDataSet.install-out.txt --library=/home/biocbuild/bbs-3.22-bioc/R/site-library --timings MultiDataSet_1.37.0.tar.gz StartedAt: 2025-10-04 02:09:12 -0400 (Sat, 04 Oct 2025) EndedAt: 2025-10-04 02:12:42 -0400 (Sat, 04 Oct 2025) EllapsedTime: 210.3 seconds RetCode: 0 Status: WARNINGS CheckDir: MultiDataSet.Rcheck Warnings: 1