Package: MultiDataSet Version: 1.37.0 Command: /home/biocbuild/bbs-3.22-bioc/R/bin/R CMD build --keep-empty-dirs --no-resave-data --md5 MultiDataSet StartedAt: 2025-07-24 18:24:12 -0400 (Thu, 24 Jul 2025) EndedAt: 2025-07-24 18:25:04 -0400 (Thu, 24 Jul 2025) EllapsedTime: 52.1 seconds RetCode: 0 Status: OK PackageFile: MultiDataSet_1.37.0.tar.gz PackageFileSize: 497.5 KiB