Back to Multiple platform build/check report for BioC 3.22:   simplified   long
ABCDEFGHIJKL[M]NOPQRSTUVWXYZ

This page was generated on 2025-05-16 12:01 -0400 (Fri, 16 May 2025).

HostnameOSArch (*)R versionInstalled pkgs
nebbiolo2Linux (Ubuntu 24.04.1 LTS)x86_644.5.0 (2025-04-11) -- "How About a Twenty-Six" 4749
palomino8Windows Server 2022 Datacenterx644.5.0 (2025-04-11 ucrt) -- "How About a Twenty-Six" 4510
lconwaymacOS 12.7.1 Montereyx86_644.5.0 Patched (2025-04-21 r88169) -- "How About a Twenty-Six" 4548
taishanLinux (openEuler 24.03 LTS)aarch644.5.0 (2025-04-11) -- "How About a Twenty-Six" 4453
Click on any hostname to see more info about the system (e.g. compilers)      (*) as reported by 'uname -p', except on Windows and Mac OS X

All results for package MultiDataSet


To the developers/maintainers of the MultiDataSet package:
- Allow up to 24 hours (and sometimes 48 hours) for your latest push to git@git.bioconductor.org:packages/MultiDataSet.git to reflect on this report. See Troubleshooting Build Report for more information.
- Use the following Renviron settings to reproduce errors and warnings.
- If 'R CMD check' started to fail recently on the Linux builder(s) over a missing dependency, add the missing dependency to 'Suggests:' in your DESCRIPTION file. See Renviron.bioc for more information.

raw results

Package 1379/2304HostnameOS / ArchINSTALLBUILDCHECKBUILD BIN
MultiDataSet 1.37.0  (landing page)
Xavier Escribà Montagut
Snapshot Date: 2025-05-15 13:00 -0400 (Thu, 15 May 2025)
git_url: https://git.bioconductor.org/packages/MultiDataSet
git_branch: devel
git_last_commit: f641cab
git_last_commit_date: 2025-04-15 11:01:31 -0400 (Tue, 15 Apr 2025)
nebbiolo2Linux (Ubuntu 24.04.1 LTS) / x86_64  OK    OK    WARNINGS  UNNEEDED, same version is already published
palomino8Windows Server 2022 Datacenter / x64  OK    OK    WARNINGS    OK  UNNEEDED, same version is already published
lconwaymacOS 12.7.1 Monterey / x86_64  OK    OK    WARNINGS    OK  UNNEEDED, same version is already published
taishanLinux (openEuler 24.03 LTS) / aarch64  OK    ERROR  skipped



Results for Bioconductor software packages that depend directly on package MultiDataSet

QUICK STATSOS / ArchINSTALLBUILDCHECKBUILD BIN
nebbiolo2Linux (Ubuntu 24.04.1 LTS) / x86_64
005
005
0014
palomino8Windows Server 2022 Datacenter / x64
005
104
0013
004
lconwaymacOS 12.7.1 Monterey / x86_64
005
005
0014
005
taishanLinux (openEuler 24.03 LTS) / aarch64
005
023
0102
Package 1/5HostnameOS / ArchINSTALLBUILDCHECKBUILD BIN
biosigner 1.37.0  (landing page)
Etienne A. Thevenot
git_last_commit: f0ba68f
git_last_commit_date: 2025-04-15 10:59:05 -0400
nebbiolo2Linux (Ubuntu 24.04.1 LTS) / x86_64  OK    OK    OK  UNNEEDED, same version is already published
palomino8Windows Server 2022 Datacenter / x64  OK    OK    OK    OK  UNNEEDED, same version is already published
lconwaymacOS 12.7.1 Monterey / x86_64  OK    OK    OK    OK  UNNEEDED, same version is already published
taishanLinux (openEuler 24.03 LTS) / aarch64  OK    OK    ERROR  
Package 2/5HostnameOS / ArchINSTALLBUILDCHECKBUILD BIN
MEAL 1.39.0  (landing page)
Xavier Escribà Montagut
git_last_commit: de71ab1
git_last_commit_date: 2025-04-15 10:53:56 -0400
nebbiolo2Linux (Ubuntu 24.04.1 LTS) / x86_64  OK    OK    WARNINGS  UNNEEDED, same version is already published
palomino8Windows Server 2022 Datacenter / x64  OK    OK    WARNINGS    OK  UNNEEDED, same version is already published
lconwaymacOS 12.7.1 Monterey / x86_64  OK    OK    WARNINGS    OK  UNNEEDED, same version is already published
taishanLinux (openEuler 24.03 LTS) / aarch64  OK    ERROR  skipped
Package 3/5HostnameOS / ArchINSTALLBUILDCHECKBUILD BIN
omicRexposome 1.31.0  (landing page)
Xavier Escribà Montagut
git_last_commit: 7cc185e
git_last_commit_date: 2025-04-15 11:14:52 -0400
nebbiolo2Linux (Ubuntu 24.04.1 LTS) / x86_64  OK    OK    OK  UNNEEDED, same version is already published
palomino8Windows Server 2022 Datacenter / x64  OK    TIMEOUT  skippedskipped
lconwaymacOS 12.7.1 Monterey / x86_64  OK    OK    OK    OK  UNNEEDED, same version is already published
taishanLinux (openEuler 24.03 LTS) / aarch64  OK    ERROR  skipped
Package 4/5HostnameOS / ArchINSTALLBUILDCHECKBUILD BIN
phenomis 1.11.0  (landing page)
Etienne A. Thevenot
git_last_commit: 7f21b04
git_last_commit_date: 2025-04-15 12:55:42 -0400
nebbiolo2Linux (Ubuntu 24.04.1 LTS) / x86_64  OK    OK    OK  UNNEEDED, same version is already published
palomino8Windows Server 2022 Datacenter / x64  OK    OK    OK    OK  UNNEEDED, same version is already published
lconwaymacOS 12.7.1 Monterey / x86_64  OK    OK    OK    OK  UNNEEDED, same version is already published
taishanLinux (openEuler 24.03 LTS) / aarch64  OK    OK    OK  
Package 5/5HostnameOS / ArchINSTALLBUILDCHECKBUILD BIN
ropls 1.41.0  (landing page)
Etienne A. Thevenot
git_last_commit: 166dde4
git_last_commit_date: 2025-04-15 10:52:06 -0400
nebbiolo2Linux (Ubuntu 24.04.1 LTS) / x86_64  OK    OK    OK  UNNEEDED, same version is already published
palomino8Windows Server 2022 Datacenter / x64  OK    OK    OK    OK  UNNEEDED, same version is already published
lconwaymacOS 12.7.1 Monterey / x86_64  OK    OK    OK    OK  UNNEEDED, same version is already published
taishanLinux (openEuler 24.03 LTS) / aarch64  OK    OK    OK