Package: MultiAssayExperiment Version: 1.33.9 Command: /Library/Frameworks/R.framework/Resources/bin/R CMD build --keep-empty-dirs --no-resave-data MultiAssayExperiment StartedAt: 2025-02-03 17:38:49 -0500 (Mon, 03 Feb 2025) EndedAt: 2025-02-03 17:40:15 -0500 (Mon, 03 Feb 2025) EllapsedTime: 85.8 seconds RetCode: 0 Status: OK PackageFile: MultiAssayExperiment_1.33.9.tar.gz PackageFileSize: 1.152 MiB