Package: MultiAssayExperiment Version: 1.35.3 Command: /Library/Frameworks/R.framework/Resources/bin/R CMD INSTALL MultiAssayExperiment StartedAt: 2025-05-09 15:13:11 -0400 (Fri, 09 May 2025) EndedAt: 2025-05-09 15:13:26 -0400 (Fri, 09 May 2025) EllapsedTime: 14.8 seconds RetCode: 0 Status: OK