Package: Mulcom Version: 1.59.0 Command: /home/biocbuild/bbs-3.22-bioc/R/bin/R CMD INSTALL Mulcom StartedAt: 2025-10-01 15:15:50 -0400 (Wed, 01 Oct 2025) EndedAt: 2025-10-01 15:15:58 -0400 (Wed, 01 Oct 2025) EllapsedTime: 7.9 seconds RetCode: 0 Status: OK