Package: MuData Version: 1.13.0 Maintainer: Ilia Kats MaintainerEmail: i.kats at dkfz-heidelberg.de git_url: https://git.bioconductor.org/packages/MuData git_branch: devel git_last_commit: 9b7fe24 git_last_commit_date: 2025-04-15 12:46:30 -0400 (Tue, 15 Apr 2025)