Package: MsQuality Version: 1.9.0 Command: /Library/Frameworks/R.framework/Resources/bin/R CMD INSTALL MsQuality StartedAt: 2025-05-07 15:31:56 -0400 (Wed, 07 May 2025) EndedAt: 2025-05-07 15:32:42 -0400 (Wed, 07 May 2025) EllapsedTime: 45.7 seconds RetCode: 0 Status: OK