Package: MsQuality Version: 1.9.0 Command: /Library/Frameworks/R.framework/Resources/bin/R CMD check --install=check:MsQuality.install-out.txt --library=/Library/Frameworks/R.framework/Resources/library --no-vignettes --timings MsQuality_1.9.0.tar.gz StartedAt: 2025-05-08 22:06:13 -0400 (Thu, 08 May 2025) EndedAt: 2025-05-08 22:13:09 -0400 (Thu, 08 May 2025) EllapsedTime: 415.6 seconds RetCode: 0 Status: OK CheckDir: MsQuality.Rcheck Warnings: 0