Package: MsQuality Version: 1.9.0 Command: /Library/Frameworks/R.framework/Resources/bin/R CMD build --keep-empty-dirs --no-resave-data MsQuality StartedAt: 2025-05-08 17:39:31 -0400 (Thu, 08 May 2025) EndedAt: 2025-05-08 17:40:55 -0400 (Thu, 08 May 2025) EllapsedTime: 84.6 seconds RetCode: 0 Status: OK PackageFile: MsQuality_1.9.0.tar.gz PackageFileSize: 4.243 MiB