Package: MsQuality Version: 1.9.0 Command: rm -rf MsQuality.buildbin-libdir && mkdir MsQuality.buildbin-libdir && /Users/biocbuild/BBS/utils/build-universal.sh MsQuality_1.9.0.tar.gz /Library/Frameworks/R.framework/Resources/bin/R MsQuality.buildbin-libdir StartedAt: 2025-05-09 00:55:37 -0400 (Fri, 09 May 2025) EndedAt: 2025-05-09 00:56:25 -0400 (Fri, 09 May 2025) EllapsedTime: 47.5 seconds RetCode: 0 Status: OK PackageFile: MsQuality_1.9.0.tgz PackageFileSize: 4.383 MiB