Package: MsFeatures Version: 1.17.1 Command: /home/biocbuild/R/R/bin/R CMD INSTALL MsFeatures StartedAt: 2025-10-20 20:35:47 -0000 (Mon, 20 Oct 2025) EndedAt: 2025-10-20 20:36:13 -0000 (Mon, 20 Oct 2025) EllapsedTime: 26.6 seconds RetCode: 0 Status: OK