Package: MsDataHub Version: 1.7.0 Command: E:\biocbuild\bbs-3.21-bioc\R\bin\R.exe CMD check --no-multiarch --install=check:MsDataHub.install-out.txt --library=E:\biocbuild\bbs-3.21-bioc\R\library --no-vignettes --timings MsDataHub_1.7.0.tar.gz StartedAt: 2025-02-17 03:07:18 -0500 (Mon, 17 Feb 2025) EndedAt: 2025-02-17 03:09:23 -0500 (Mon, 17 Feb 2025) EllapsedTime: 125.2 seconds RetCode: 0 Status: OK CheckDir: MsDataHub.Rcheck Warnings: 0