Package: MsCoreUtils Version: 1.21.0 Command: /home/biocbuild/bbs-3.22-bioc/R/bin/R CMD INSTALL MsCoreUtils StartedAt: 2025-07-21 15:19:15 -0400 (Mon, 21 Jul 2025) EndedAt: 2025-07-21 15:19:21 -0400 (Mon, 21 Jul 2025) EllapsedTime: 6.5 seconds RetCode: 0 Status: OK