Package: MsCoreUtils Version: 1.21.0 Command: /home/biocbuild/bbs-3.22-bioc/R/bin/R CMD build --keep-empty-dirs --no-resave-data --md5 MsCoreUtils StartedAt: 2025-07-23 18:31:06 -0400 (Wed, 23 Jul 2025) EndedAt: 2025-07-23 18:31:17 -0400 (Wed, 23 Jul 2025) EllapsedTime: 11.0 seconds RetCode: 0 Status: OK PackageFile: MsCoreUtils_1.21.0.tar.gz PackageFileSize: 418 KiB