Package: MsBackendSql Version: 1.9.3 Command: /home/biocbuild/bbs-3.22-bioc/R/bin/R CMD check --install=check:MsBackendSql.install-out.txt --library=/home/biocbuild/bbs-3.22-bioc/R/site-library --timings MsBackendSql_1.9.3.tar.gz StartedAt: 2025-10-20 02:21:01 -0400 (Mon, 20 Oct 2025) EndedAt: 2025-10-20 02:26:30 -0400 (Mon, 20 Oct 2025) EllapsedTime: 329.3 seconds RetCode: 0 Status: OK CheckDir: MsBackendSql.Rcheck Warnings: 0