Package: MsBackendSql Version: 1.7.3 Command: /Library/Frameworks/R.framework/Resources/bin/R CMD INSTALL MsBackendSql StartedAt: 2025-02-14 15:13:54 -0500 (Fri, 14 Feb 2025) EndedAt: 2025-02-14 15:14:13 -0500 (Fri, 14 Feb 2025) EllapsedTime: 19.5 seconds RetCode: 0 Status: OK