Package: MsBackendSql Version: 1.7.3 Command: /Library/Frameworks/R.framework/Resources/bin/R CMD check --install=check:MsBackendSql.install-out.txt --library=/Library/Frameworks/R.framework/Resources/library --no-vignettes --timings MsBackendSql_1.7.3.tar.gz StartedAt: 2025-02-16 21:42:40 -0500 (Sun, 16 Feb 2025) EndedAt: 2025-02-16 21:48:56 -0500 (Sun, 16 Feb 2025) EllapsedTime: 375.9 seconds RetCode: 0 Status: OK CheckDir: MsBackendSql.Rcheck Warnings: 0