Package: MsBackendSql Version: 1.7.3 Command: /Library/Frameworks/R.framework/Resources/bin/R CMD INSTALL MsBackendSql StartedAt: 2025-01-31 15:07:44 -0500 (Fri, 31 Jan 2025) EndedAt: 2025-01-31 15:07:49 -0500 (Fri, 31 Jan 2025) EllapsedTime: 5.0 seconds RetCode: 0 Status: OK