Package: MsBackendSql Version: 1.9.0 Maintainer: Johannes Rainer MaintainerEmail: Johannes.Rainer at eurac.edu git_url: https://git.bioconductor.org/packages/MsBackendSql git_branch: devel git_last_commit: 4094a8d git_last_commit_date: 2025-04-15 13:01:15 -0400 (Tue, 15 Apr 2025)