Package: MsBackendRawFileReader Version: 1.13.1 Command: E:\biocbuild\bbs-3.21-bioc\R\bin\R.exe CMD INSTALL MsBackendRawFileReader StartedAt: 2025-02-04 15:39:03 -0500 (Tue, 04 Feb 2025) EndedAt: 2025-02-04 15:41:01 -0500 (Tue, 04 Feb 2025) EllapsedTime: 118.7 seconds RetCode: 0 Status: OK