Package: MsBackendRawFileReader Version: 1.13.1 Command: E:\biocbuild\bbs-3.21-bioc\R\bin\R.exe CMD check --no-multiarch --install=check:MsBackendRawFileReader.install-out.txt --library=E:\biocbuild\bbs-3.21-bioc\R\library --no-vignettes --timings MsBackendRawFileReader_1.13.1.tar.gz StartedAt: 2025-02-05 03:42:45 -0500 (Wed, 05 Feb 2025) EndedAt: 2025-02-05 03:49:39 -0500 (Wed, 05 Feb 2025) EllapsedTime: 414.0 seconds RetCode: 0 Status: OK CheckDir: MsBackendRawFileReader.Rcheck Warnings: 0