Package: MsBackendRawFileReader Version: 1.13.1 Command: rm -rf MsBackendRawFileReader.buildbin-libdir && mkdir MsBackendRawFileReader.buildbin-libdir && E:\biocbuild\bbs-3.21-bioc\R\bin\R.exe CMD INSTALL --build --library=MsBackendRawFileReader.buildbin-libdir MsBackendRawFileReader_1.13.1.tar.gz StartedAt: 2025-02-05 08:25:01 -0500 (Wed, 05 Feb 2025) EndedAt: 2025-02-05 08:28:33 -0500 (Wed, 05 Feb 2025) EllapsedTime: 211.7 seconds RetCode: 0 Status: OK PackageFile: MsBackendRawFileReader_1.13.1.zip PackageFileSize: 1.029 MiB