Package: MsBackendRawFileReader Version: 1.15.1 Command: /home/biocbuild/bbs-3.22-bioc/R/bin/R CMD INSTALL MsBackendRawFileReader StartedAt: 2025-07-18 15:12:54 -0400 (Fri, 18 Jul 2025) EndedAt: 2025-07-18 15:13:04 -0400 (Fri, 18 Jul 2025) EllapsedTime: 9.9 seconds RetCode: 0 Status: OK