Package: MsBackendRawFileReader Version: 1.15.1 Command: /home/biocbuild/bbs-3.22-bioc/R/bin/R CMD build --keep-empty-dirs --no-resave-data --md5 MsBackendRawFileReader StartedAt: 2025-07-18 18:12:17 -0400 (Fri, 18 Jul 2025) EndedAt: 2025-07-18 18:14:05 -0400 (Fri, 18 Jul 2025) EllapsedTime: 107.1 seconds RetCode: 0 Status: OK PackageFile: MsBackendRawFileReader_1.15.1.tar.gz PackageFileSize: 1.596 MiB