Package: MsBackendRawFileReader Version: 1.13.1 Command: /home/biocbuild/bbs-3.21-bioc/R/bin/R CMD check --install=check:MsBackendRawFileReader.install-out.txt --library=/home/biocbuild/bbs-3.21-bioc/R/site-library --timings MsBackendRawFileReader_1.13.1.tar.gz StartedAt: 2025-02-10 00:29:25 -0500 (Mon, 10 Feb 2025) EndedAt: 2025-02-10 00:34:11 -0500 (Mon, 10 Feb 2025) EllapsedTime: 285.3 seconds RetCode: 0 Status: OK CheckDir: MsBackendRawFileReader.Rcheck Warnings: 0