Package: MsBackendRawFileReader Version: 1.13.1 Command: /home/biocbuild/bbs-3.21-bioc/R/bin/R CMD build --keep-empty-dirs --no-resave-data MsBackendRawFileReader StartedAt: 2025-02-04 18:15:14 -0500 (Tue, 04 Feb 2025) EndedAt: 2025-02-04 18:17:03 -0500 (Tue, 04 Feb 2025) EllapsedTime: 108.1 seconds RetCode: 0 Status: OK PackageFile: MsBackendRawFileReader_1.13.1.tar.gz PackageFileSize: 1.594 MiB