Package: MsBackendRawFileReader Version: 1.15.0 Command: /Library/Frameworks/R.framework/Resources/bin/R CMD check --install=check:MsBackendRawFileReader.install-out.txt --library=/Library/Frameworks/R.framework/Resources/library --no-vignettes --timings MsBackendRawFileReader_1.15.0.tar.gz StartedAt: 2025-05-15 21:54:02 -0400 (Thu, 15 May 2025) EndedAt: 2025-05-15 21:57:45 -0400 (Thu, 15 May 2025) EllapsedTime: 222.2 seconds RetCode: 0 Status: OK CheckDir: MsBackendRawFileReader.Rcheck Warnings: 0