Package: MsBackendRawFileReader Version: 1.15.0 Command: rm -rf MsBackendRawFileReader.buildbin-libdir && mkdir MsBackendRawFileReader.buildbin-libdir && /Users/biocbuild/BBS/utils/build-universal.sh MsBackendRawFileReader_1.15.0.tar.gz /Library/Frameworks/R.framework/Resources/bin/R MsBackendRawFileReader.buildbin-libdir StartedAt: 2025-05-16 00:40:53 -0400 (Fri, 16 May 2025) EndedAt: 2025-05-16 00:41:11 -0400 (Fri, 16 May 2025) EllapsedTime: 17.4 seconds RetCode: 0 Status: OK PackageFile: MsBackendRawFileReader_1.15.0.tgz PackageFileSize: 1.248 MiB