Package: MsBackendRawFileReader Version: 1.13.1 Command: /home/biocbuild/R/R/bin/R CMD build --keep-empty-dirs --no-resave-data MsBackendRawFileReader StartedAt: 2025-01-29 00:38:26 -0000 (Wed, 29 Jan 2025) EndedAt: 2025-01-29 00:39:04 -0000 (Wed, 29 Jan 2025) EllapsedTime: 38.0 seconds RetCode: 1 Status: ERROR PackageFile: None PackageFileSize: NA