Package: MsBackendRawFileReader Version: 1.15.0 Command: /Library/Frameworks/R.framework/Resources/bin/R CMD INSTALL MsBackendRawFileReader StartedAt: 2025-05-05 15:07:18 -0400 (Mon, 05 May 2025) EndedAt: 2025-05-05 15:07:22 -0400 (Mon, 05 May 2025) EllapsedTime: 4.0 seconds RetCode: 0 Status: OK