Package: MsBackendMsp Version: 1.13.0 Command: /home/biocbuild/bbs-3.22-bioc/R/bin/R CMD check --install=check:MsBackendMsp.install-out.txt --library=/home/biocbuild/bbs-3.22-bioc/R/site-library --timings MsBackendMsp_1.13.0.tar.gz StartedAt: 2025-10-25 01:52:55 -0400 (Sat, 25 Oct 2025) EndedAt: 2025-10-25 01:54:19 -0400 (Sat, 25 Oct 2025) EllapsedTime: 84.1 seconds RetCode: 0 Status: OK CheckDir: MsBackendMsp.Rcheck Warnings: 0