Package: MsBackendMgf Version: 1.17.0 Command: chmod a+r MsBackendMgf -R && F:\biocbuild\bbs-3.22-bioc\R\bin\R.exe CMD build --keep-empty-dirs --no-resave-data MsBackendMgf StartedAt: 2025-08-14 21:41:28 -0400 (Thu, 14 Aug 2025) EndedAt: 2025-08-14 21:42:12 -0400 (Thu, 14 Aug 2025) EllapsedTime: 44.0 seconds RetCode: 0 Status: OK PackageFile: MsBackendMgf_1.17.0.tar.gz PackageFileSize: 335.9 KiB