Package: MsBackendMgf Version: 1.15.2 Command: chmod a+r MsBackendMgf -R && E:\biocbuild\bbs-3.21-bioc\R\bin\R.exe CMD build --keep-empty-dirs --no-resave-data MsBackendMgf StartedAt: 2025-02-05 20:12:49 -0500 (Wed, 05 Feb 2025) EndedAt: 2025-02-05 20:13:23 -0500 (Wed, 05 Feb 2025) EllapsedTime: 34.3 seconds RetCode: 0 Status: OK PackageFile: MsBackendMgf_1.15.2.tar.gz PackageFileSize: 328.2 KiB