Package: MsBackendMgf Version: 1.15.2 Command: /home/biocbuild/bbs-3.21-bioc/R/bin/R CMD INSTALL MsBackendMgf StartedAt: 2025-02-05 15:14:08 -0500 (Wed, 05 Feb 2025) EndedAt: 2025-02-05 15:14:17 -0500 (Wed, 05 Feb 2025) EllapsedTime: 8.9 seconds RetCode: 0 Status: OK