Package: MsBackendMgf Version: 1.17.0 Command: /Library/Frameworks/R.framework/Resources/bin/R CMD INSTALL MsBackendMgf StartedAt: 2025-05-01 15:07:28 -0400 (Thu, 01 May 2025) EndedAt: 2025-05-01 15:07:33 -0400 (Thu, 01 May 2025) EllapsedTime: 5.1 seconds RetCode: 0 Status: OK