Package: MouseFM Version: 1.17.0 Command: /home/biocbuild/bbs-3.21-bioc/R/bin/R CMD check --install=check:MouseFM.install-out.txt --library=/home/biocbuild/bbs-3.21-bioc/R/site-library --timings MouseFM_1.17.0.tar.gz StartedAt: 2025-02-04 00:32:59 -0500 (Tue, 04 Feb 2025) EndedAt: 2025-02-04 00:38:02 -0500 (Tue, 04 Feb 2025) EllapsedTime: 302.4 seconds RetCode: 0 Status: OK CheckDir: MouseFM.Rcheck Warnings: 0