Package: MouseFM Version: 1.19.0 Command: /Library/Frameworks/R.framework/Resources/bin/R CMD check --install=check:MouseFM.install-out.txt --library=/Library/Frameworks/R.framework/Resources/library --no-vignettes --timings MouseFM_1.19.0.tar.gz StartedAt: 2025-05-06 21:59:43 -0400 (Tue, 06 May 2025) EndedAt: 2025-05-06 22:03:14 -0400 (Tue, 06 May 2025) EllapsedTime: 211.0 seconds RetCode: 1 Status: ERROR CheckDir: MouseFM.Rcheck Warnings: NA