Package: MouseFM Version: 1.19.0 Command: /Library/Frameworks/R.framework/Resources/bin/R CMD INSTALL MouseFM StartedAt: 2025-05-07 15:26:18 -0400 (Wed, 07 May 2025) EndedAt: 2025-05-07 15:26:26 -0400 (Wed, 07 May 2025) EllapsedTime: 7.2 seconds RetCode: 0 Status: OK