Package: MouseFM Version: 1.19.0 Command: /Library/Frameworks/R.framework/Resources/bin/R CMD check --install=check:MouseFM.install-out.txt --library=/Library/Frameworks/R.framework/Resources/library --no-vignettes --timings MouseFM_1.19.0.tar.gz StartedAt: 2025-05-08 20:44:52 -0400 (Thu, 08 May 2025) EndedAt: 2025-05-08 20:48:25 -0400 (Thu, 08 May 2025) EllapsedTime: 212.5 seconds RetCode: 1 Status: ERROR CheckDir: MouseFM.Rcheck Warnings: NA