Package: MouseFM Version: 1.19.0 Command: /Library/Frameworks/R.framework/Resources/bin/R CMD build --keep-empty-dirs --no-resave-data MouseFM StartedAt: 2025-05-08 17:04:21 -0400 (Thu, 08 May 2025) EndedAt: 2025-05-08 17:04:47 -0400 (Thu, 08 May 2025) EllapsedTime: 26.3 seconds RetCode: 0 Status: OK PackageFile: MouseFM_1.19.0.tar.gz PackageFileSize: 768 KiB