Package: MotifDb Version: 1.51.0 Command: /home/biocbuild/bbs-3.22-bioc/R/bin/R CMD INSTALL MotifDb StartedAt: 2025-10-10 15:40:09 -0400 (Fri, 10 Oct 2025) EndedAt: 2025-10-10 15:40:52 -0400 (Fri, 10 Oct 2025) EllapsedTime: 42.6 seconds RetCode: 0 Status: OK